BEGIN:VCALENDAR
VERSION:2.0
PRODID:-//eventon.com NONSGML v1.0//EN
CALSCALE:GREGORIAN
METHOD:PUBLISH
BEGIN:VEVENT
UID:69e7502de249e
DTSTAMP:20260421T102341Z
DTSTART:20180311T040000Z
DTEND:20180311T070000Z
LOCATION:
SUMMARY:Eric Leadbetter Duo
DESCRIPTION:Eric Leadbetter Duo\nhttps://sisterssaloon.net/events/eric-lead
 better-duo/
URL:https://sisterssaloon.net/events/eric-leadbetter-duo/
END:VEVENT
END:VCALENDAR