BEGIN:VCALENDAR
VERSION:2.0
PRODID:-//eventon.com NONSGML v1.0//EN
CALSCALE:GREGORIAN
METHOD:PUBLISH
BEGIN:VEVENT
UID:69e73b73d941b
DTSTAMP:20260421T085515Z
DTSTART:20240923T010000Z
DTEND:20240923T030000Z
LOCATION:
SUMMARY:Kurt Silva Duo
DESCRIPTION:Kurt Silva Duo\nhttps://sisterssaloon.net/events/kurt-silva-duo
 /
URL:https://sisterssaloon.net/events/kurt-silva-duo/
END:VEVENT
END:VCALENDAR