BEGIN:VCALENDAR
VERSION:2.0
PRODID:-//eventon.com NONSGML v1.0//EN
CALSCALE:GREGORIAN
METHOD:PUBLISH
BEGIN:VEVENT
UID:69e70ef2921d9
DTSTAMP:20260421T054522Z
DTSTART:20240809T003000Z
DTEND:20240809T065900Z
LOCATION:Sisters Saloon &amp; Ranch Grill 190 East Cascade Avenue Sisters\,  Oregon 97759
SUMMARY:Texas Hold 'em Poker Tournament every Wednesday at 5:30
DESCRIPTION:This weekly No-Limit Texas Hold &#8217;em tournament has been g
 oing on upstairs in this old Saloon for many years. Players should show up 
 Wednesdays between 5:15 and 5:25 to sign up with Pat upstairs before the de
 aling starts at 5:30. If you arrive late\,  you can still buy in until[..]\
 nhttps://sisterssaloon.net/events/texas-hold-em-poker-tournament-every-wedn
 esday-at-530/
URL:https://sisterssaloon.net/events/texas-hold-em-poker-tournament-every-wednesday-at-530/
END:VEVENT
END:VCALENDAR