BEGIN:VCALENDAR
VERSION:2.0
PRODID:-//eventon.com NONSGML v1.0//EN
CALSCALE:GREGORIAN
METHOD:PUBLISH
BEGIN:VEVENT
UID:69e738df8406d
DTSTAMP:20260421T084415Z
DTSTART:20190615T020000Z
DTEND:20190615T050000Z
LOCATION:
SUMMARY:Bill Keale
DESCRIPTION:Bill Keale\nhttps://sisterssaloon.net/events/bill-keale-2/
URL:https://sisterssaloon.net/events/bill-keale-2/
END:VEVENT
END:VCALENDAR