BEGIN:VCALENDAR
VERSION:2.0
PRODID:-//eventon.com NONSGML v1.0//EN
CALSCALE:GREGORIAN
METHOD:PUBLISH
BEGIN:VEVENT
UID:69ea2fcdbbf61
DTSTAMP:20260423T144221Z
DTSTART:20190929T020000Z
DTEND:20190929T050000Z
LOCATION:
SUMMARY:Derek Michael Marc
DESCRIPTION:Derek Michael Marc\nhttps://sisterssaloon.net/events/derek-mich
 ael-marc-3/
URL:https://sisterssaloon.net/events/derek-michael-marc-3/
END:VEVENT
END:VCALENDAR