BEGIN:VCALENDAR
VERSION:2.0
PRODID:-//eventon.com NONSGML v1.0//EN
CALSCALE:GREGORIAN
METHOD:PUBLISH
BEGIN:VEVENT
UID:69e8b10bbfdfe
DTSTAMP:20260422T112915Z
DTSTART:20190630T020000Z
DTEND:20190630T050000Z
LOCATION:
SUMMARY:Melanie Rose Dyer
DESCRIPTION:Melanie Rose Dyer\nhttps://sisterssaloon.net/events/melanie-ros
 e-dyer/
URL:https://sisterssaloon.net/events/melanie-rose-dyer/
END:VEVENT
END:VCALENDAR